BEGIN:VCALENDAR
VERSION:2.0
PRODID:-//pretix//pretix.eu//
BEGIN:VTIMEZONE
TZID:Europe/Brussels
BEGIN:STANDARD
DTSTART:20001029T040000
RRULE:FREQ=YEARLY;BYDAY=-1SU;BYMONTH=10
TZNAME:CET
TZOFFSETFROM:+0200
TZOFFSETTO:+0100
END:STANDARD
BEGIN:DAYLIGHT
DTSTART:20000326T030000
RRULE:FREQ=YEARLY;BYDAY=-1SU;BYMONTH=3
TZNAME:CEST
TZOFFSETFROM:+0100
TZOFFSETTO:+0200
END:DAYLIGHT
END:VTIMEZONE
BEGIN:VEVENT
UID:pretix-cozmix-S4K2026-4745426@tickets.cozmix.be
DTSTART;TZID=Europe/Brussels:20260102T170000
DTEND;TZID=Europe/Brussels:20260102T180000
DESCRIPTION:Tickets: https://tickets.cozmix.be/S4K2026/4745426/\nOrganisato
 r: Cozmix
DTSTAMP:20260420T080851Z
LOCATION:Cozmix (Zeeweg 96\, 8200 Brugge)
SUMMARY:Space 4 Kids - Astronootjes
END:VEVENT
END:VCALENDAR
